BEGIN:VCALENDAR
VERSION:2.0
PRODID:-//https://eruuf.org///NONSGML kigkonsult.se iCalcreator 2.10.15//
METHOD:PUBLISH
BEGIN:VEVENT
UID:20260425T112603UTC-7523XGHnEV@https://eruuf.org/
DTSTAMP:20260425T112603Z
DESCRIPTION:Please register below for film information and receive the Zoom
  link.\nThe Spring 2022 film series presented by the ERUUF Earth Justice A
 ction Group will take place on fourth Sundays via Zoom. The series runs fr
 om January through May.\nJoin us on Sunday\, February 27\, 2:00 pm via Zoo
 m. \nBrave Blue World: Racing to Solve the Water Crisis is available on Ne
 tflix. We ask you to watch the film on your own and join us for an online 
 Zoom discussion. If you do not have a Netflix subscription\, please contac
 t Betsy Bickel or Lynda Hambourger who will make arrangements for you to w
 atch the film.  Also coming up in the series is The Story of Plastic on Ma
 rch 27. We hope that Covid-19 restrictions will be lifted by then and we w
 ill be able to gather at ERUUF in person to watch the film followed by dis
 cussion. Learn more and register below.\nRegister Now https://eruuf.org/ca
 lendar/calendar-view/event/10861-earth-justice-action-group-film-series.ht
 ml
DTSTART:20220227T190000Z
DTEND:20220227T210000Z
LOCATION:Fellowship Hall   ()
SUMMARY:Earth Justice Action Group Film series
URL:https://eruuf.org/calendar/calendar-view/event/10861-earth-justice-acti
 on-group-film-series.html
END:VEVENT
END:VCALENDAR
