BEGIN:VCALENDAR
VERSION:2.0
PRODID:-//https://eruuf.org///NONSGML kigkonsult.se iCalcreator 2.10.15//
METHOD:PUBLISH
BEGIN:VEVENT
UID:20260424T153747UTC-58790ekLUs@https://eruuf.org/
DTSTAMP:20260424T153747Z
DESCRIPTION:March 27\, 1:00 pm\, Multiplatform (Fellowship Hall and Online 
 - Register Below)\nERRUF's Earth Justice Action Group invites you to watch
  the documentary film The Story of Plastic. Following the film will be a d
 iscussion beginning at 2:45 pm. For those who watch the film (which is ava
 ilable on Amazon Prime) on their own\, the discussion will be available on
  Zoom. To receive the Zoom link to the discussion\, please register below.
  Those attending in person are requested to sign up as well\; they're also
  invited to bring snacks to the film viewing.\nThe Spring 2022 film series
  presented by the ERUUF Earth Justice Action Group will take place on four
 th Sundays via Zoom. The series runs from January through May.\nRegister N
 ow https://eruuf.org/calendar/calendar-view/event/10862-earth-justice-acti
 on-group-film-series.html
DTSTART:20220327T184500Z
DTEND:20220327T194500Z
LOCATION:Multiplatform Meeting (Multiplatform meetings are online and in-pe
 rson at ERUUF. See the meeting event details for information on how to joi
 n.)
SUMMARY:Earth Justice Action Group Film series
URL:https://eruuf.org/calendar/calendar-view/event/10862-earth-justice-acti
 on-group-film-series.html
END:VEVENT
END:VCALENDAR
