BEGIN:VCALENDAR
VERSION:2.0
PRODID:-//https://eruuf.org///NONSGML kigkonsult.se iCalcreator 2.10.15//
METHOD:PUBLISH
BEGIN:VEVENT
UID:20260423T161348UTC-7350vUAONv@https://eruuf.org/
DTSTAMP:20260423T161348Z
DESCRIPTION:Please register below for film information and receive the Zoom
  link.\nThe Spring 2022 film series presented by the ERUUF Earth Justice A
 ction Group will take place on fourth Sundays via Zoom. The series runs fr
 om January through May.\nRegister Now https://eruuf.org/calendar/calendar-
 view/event/10864-earth-justice-action-group-film-series.html
DTSTART:20220522T180000Z
DTEND:20220522T200000Z
LOCATION:Fellowship Hall   ()
SUMMARY:Earth Justice Action Group Film series
URL:https://eruuf.org/calendar/calendar-view/event/10864-earth-justice-acti
 on-group-film-series.html
END:VEVENT
END:VCALENDAR
