BEGIN:VCALENDAR
VERSION:2.0
PRODID:-//https://eruuf.org///NONSGML kigkonsult.se iCalcreator 2.10.15//
METHOD:PUBLISH
BEGIN:VEVENT
UID:20260422T181411UTC-8518VvXgzh@https://eruuf.org/
DTSTAMP:20260422T181411Z
DESCRIPTION:Please contact Kristi Chilton for more information at - joybird
 7@yahoo.com - 919-308-1068 https://eruuf.org/calendar/calendar-view/event/
 1096-folk-ensemble.html
DTSTART:20150330T230000Z
DTEND:20150331T003000Z
LOCATION:Fellowship Hall   ()
SUMMARY:Folk Ensemble
URL:https://eruuf.org/calendar/calendar-view/event/1096-folk-ensemble.html
END:VEVENT
END:VCALENDAR
