BEGIN:VCALENDAR
VERSION:2.0
PRODID:-//https://eruuf.org///NONSGML kigkonsult.se iCalcreator 2.10.15//
METHOD:PUBLISH
BEGIN:VEVENT
UID:20260419T123826UTC-7444ODSDjw@https://eruuf.org/
DTSTAMP:20260419T123826Z
DESCRIPTION:A 6-session introduction to theological concepts through a Unit
 arian Universalist lens.  https://eruuf.org/calendar/calendar-view/event/1
 0961-uu-theology.html
DTSTART:20220116T143000Z
DTEND:20220116T153000Z
LOCATION:Fellowship Hall   ()
SUMMARY:UU Theology
URL:https://eruuf.org/calendar/calendar-view/event/10961-uu-theology.html
END:VEVENT
END:VCALENDAR
