BEGIN:VCALENDAR
VERSION:2.0
PRODID:-//https://eruuf.org///NONSGML kigkonsult.se iCalcreator 2.10.15//
METHOD:PUBLISH
BEGIN:VEVENT
UID:20260419T152307UTC-531362JG8B@https://eruuf.org/
DTSTAMP:20260419T152307Z
DESCRIPTION:A 6-session introduction to theological concepts through a Unit
 arian Universalist lens.  https://eruuf.org/calendar/calendar-view/event/1
 0962-uu-theology.html
DTSTART:20220123T143000Z
DTEND:20220123T153000Z
LOCATION:Fellowship Hall   ()
SUMMARY:UU Theology
URL:https://eruuf.org/calendar/calendar-view/event/10962-uu-theology.html
END:VEVENT
END:VCALENDAR
