BEGIN:VCALENDAR
VERSION:2.0
PRODID:-//https://eruuf.org///NONSGML kigkonsult.se iCalcreator 2.10.15//
METHOD:PUBLISH
BEGIN:VEVENT
UID:20260424T222017UTC-0934wIvppV@https://eruuf.org/
DTSTAMP:20260424T222017Z
DESCRIPTION:Sponsored by the Healthy Congregation Committee. https://eruuf.
 org/calendar/calendar-view/event/11011-conflict-resolution-workshop.html
DTSTART:20220129T140000Z
DTEND:20220129T210000Z
LOCATION:Fellowship Hall   ()
SUMMARY:Conflict Resolution Workshop
URL:https://eruuf.org/calendar/calendar-view/event/11011-conflict-resolutio
 n-workshop.html
END:VEVENT
END:VCALENDAR
