BEGIN:VCALENDAR
VERSION:2.0
PRODID:-//https://eruuf.org///NONSGML kigkonsult.se iCalcreator 2.10.15//
METHOD:PUBLISH
BEGIN:VEVENT
UID:20260423T002631UTC-5031oZURCs@https://eruuf.org/
DTSTAMP:20260423T002631Z
DESCRIPTION:\nSpecial Congregational Meeting to Call a New Senior Minister
 \nJanuary 30\, 2022\, 12:30 pm via zoom\nVote on the call of Rev. Jacqueli
 ne Brett as ERUUF’s next Lead Minister\nRegister for Zoom meeting\nAs note
 d in the e-mail sent to members on December 28th\, your Ministerial Search
  Committee is thrilled to recommend Reverend Jacqueline Brett as the candi
 date for our lead minister. As required in our by-laws\, the Board of Trus
 tees has concurred with our recommendation\, offering their enthusiastic e
 ndorsement. We strongly believe that she is the right person to move ERUUF
  toward realizing our vision.\n See the letter from the Ministerial Search
  Committee to read some of the many reasons for our recommendation.\nSee t
 he letter from the Board of Trustees about candidating week and congregati
 onal meeting. Questions: Board@eruuf.org\nWe also encourage you to visit R
 ev. Brett’s website to learn more about her and the amazing work that she 
 is doing.\nPlease reach out to the Search Committee at ministersearch@eruu
 f.org\n https://eruuf.org/calendar/calendar-view/event/11029-special-congr
 egational-meeting.html
DTSTART:20220130T173000Z
DTEND:20220130T183000Z
LOCATION:Online  (Online meetings are organized by the group leader. See th
 e meeting event details for information on how to join.)
SUMMARY:Special Congregational Meeting
URL:https://eruuf.org/calendar/calendar-view/event/11029-special-congregati
 onal-meeting.html
END:VEVENT
END:VCALENDAR
