BEGIN:VCALENDAR
VERSION:2.0
PRODID:-//https://eruuf.org///NONSGML kigkonsult.se iCalcreator 2.10.15//
METHOD:PUBLISH
BEGIN:VEVENT
UID:20260420T115433UTC-4275rlxCVP@https://eruuf.org/
DTSTAMP:20260420T115433Z
DESCRIPTION:Sundays\, Feb. 20\, 27\, Mar. 6\, 9:30 am\, Online (Register Be
 low)\nJoin in a lively discussion about money\, the meaning of money in ou
 r lives\, and the cultural lessons we have learned about money and wealth.
  The Wi$dom Path is a UUA curriculum in which we explore how to balance mo
 ney\, work\, and our UU values to make the world a better place for all.\n
 In the next three sessions\, we will consider economic needs and creative 
 solutions to improve economic well-being of individuals and our communitie
 s (Imagining a Transformed World)\, explore our connections between how we
  balance our vocational purpose and economic needs (Faithful Earning) and 
 discuss how our spending habits reflect our spiritual and ethical values (
 Faithful Spending).\n Register Now https://eruuf.org/calendar/calendar-vie
 w/event/11036-the-wisdom-path-a-conversation-about-money.html
DTSTART:20220220T143000Z
DTEND:20220220T153000Z
LOCATION:Online  (Online meetings are organized by the group leader. See th
 e meeting event details for information on how to join.)
SUMMARY:The Wisdom Path: A Conversation about Money
URL:https://eruuf.org/calendar/calendar-view/event/11036-the-wisdom-path-a-
 conversation-about-money.html
END:VEVENT
END:VCALENDAR
