BEGIN:VCALENDAR
VERSION:2.0
PRODID:-//https://eruuf.org///NONSGML kigkonsult.se iCalcreator 2.10.15//
METHOD:PUBLISH
BEGIN:VEVENT
UID:20260423T124413UTC-0245wcJFmU@https://eruuf.org/
DTSTAMP:20260423T124413Z
DESCRIPTION:Read the book Waste by the MacArthur 'Genius' winner Catherine 
 Coleman Flowers and discuss it on April 9 and/or April 16. Beginning in Lo
 wndes County\, Alabama\, Flowers describes her efforts to empower resident
 s\, often People of Color\, and improve wastewater systems. This is an imp
 ortant book and a good opportunity\, especially for those planning to go o
 n the Alabama Pilgrimage next year. Sign up HERE. This book read is jointl
 y sponsored by ERUUF's Earth Justice Action Group and Multicultural Team (
 MCT). Point of contact: Lynda Hambourger\, lhambourger@gmail.com.\nLearn m
 ore about Earth & Climate Justice Month here. \n  https://eruuf.org/calend
 ar/calendar-view/event/11077-mct-and-earth-justice-group-read-waste.html
DTSTART:20220409T190000Z
DTEND:20220409T203000Z
LOCATION:Online  (Online meetings are organized by the group leader. See th
 e meeting event details for information on how to join.)
SUMMARY:MCT and Earth Justice Group Read: Waste
URL:https://eruuf.org/calendar/calendar-view/event/11077-mct-and-earth-just
 ice-group-read-waste.html
END:VEVENT
END:VCALENDAR
