BEGIN:VCALENDAR
VERSION:2.0
PRODID:-//https://eruuf.org///NONSGML kigkonsult.se iCalcreator 2.10.15//
METHOD:PUBLISH
BEGIN:VEVENT
UID:20260424T161825UTC-9964jouFmu@https://eruuf.org/
DTSTAMP:20260424T161825Z
DESCRIPTION:Read the book Waste by the MacArthur 'Genius' winner Catherine 
 Coleman Flowers and discuss it on April 9 and/or April 16. Beginning in Lo
 wndes County\, Alabama\, Flowers describes her efforts to empower resident
 s\, often People of Color\, and improve wastewater systems. This is an imp
 ortant book and a good opportunity\, especially for those planning to go o
 n the Alabama Pilgrimage next year.\nThis book read is jointly sponsored b
 y ERUUF's Earth Justice Action Group and Multicultural Team (MCT). Point o
 f contact: Lynda Hambourger\, lhambourger@gmail.com.\n \nRegister Now\n \n
 Learn more about Earth & Climate Justice Month here. \n  https://eruuf.org
 /calendar/calendar-view/event/11094-mct-and-earth-justice-group-read-waste
 .html
DTSTART:20220416T190000Z
DTEND:20220416T203000Z
LOCATION:Online  (Online meetings are organized by the group leader. See th
 e meeting event details for information on how to join.)
SUMMARY:MCT and Earth Justice Group Read: Waste
URL:https://eruuf.org/calendar/calendar-view/event/11094-mct-and-earth-just
 ice-group-read-waste.html
END:VEVENT
END:VCALENDAR
