BEGIN:VCALENDAR
VERSION:2.0
PRODID:-//https://eruuf.org///NONSGML kigkonsult.se iCalcreator 2.10.15//
METHOD:PUBLISH
BEGIN:VEVENT
UID:20260422T153121UTC-9606IvM9a3@https://eruuf.org/
DTSTAMP:20260422T153121Z
DESCRIPTION:Reminder: Daylight Saving Time will begin at 2:00 am on Sunday\
 , March 13. ERUUF programs will continue at regularly scheduled times\, in
 cluding live-streamed worship services at 10:45 am. See the online Calenda
 r of Events for details. https://eruuf.org/calendar/calendar-view/event/11
 098-daylight-saving-time-spring-forward.html
DTSTART;VALUE=DATE:20220313
LOCATION:ERUUF Campus   (4907 Garrett Rd\, Durham\, NC 27707    )
SUMMARY:Daylight Saving Time: Spring Forward
URL:https://eruuf.org/calendar/calendar-view/event/11098-daylight-saving-ti
 me-spring-forward.html
END:VEVENT
END:VCALENDAR
