BEGIN:VCALENDAR
VERSION:2.0
PRODID:-//https://eruuf.org///NONSGML kigkonsult.se iCalcreator 2.10.15//
METHOD:PUBLISH
BEGIN:VEVENT
UID:20260423T215523UTC-10242J1aOJ@https://eruuf.org/
DTSTAMP:20260423T215523Z
DESCRIPTION:Contact - Kathy Cronin - kcronin@eruuf.org https://eruuf.org/ca
 lendar/calendar-view/event/1110-re-council.html
DTSTART:20150504T223000Z
DTEND:20150509T013000Z
LOCATION:Room 1 - CARE Building ()
SUMMARY:RE Council
URL:https://eruuf.org/calendar/calendar-view/event/1110-re-council.html
END:VEVENT
END:VCALENDAR
