BEGIN:VCALENDAR
VERSION:2.0
PRODID:-//https://eruuf.org///NONSGML kigkonsult.se iCalcreator 2.10.15//
METHOD:PUBLISH
BEGIN:VEVENT
UID:20260425T041123UTC-0175g70EWV@https://eruuf.org/
DTSTAMP:20260425T041123Z
DESCRIPTION:\nSaturday\, April 16\, 6:30 pm\, ERUUF Fellowship Hall - Film:
  The Journey of the Universe (Register below)\n\nThis one-of-a-kind film w
 as written by Brian Swimme and Yale University historian of religions\, Ma
 ry Evelyn Tucker. They weave a tapestry that draws together scientific dis
 coveries in astronomy\, geology\, biology\, ecology\, and biodiversity wit
 h humanistic insights concerning the nature of the universe. Created by a 
 renowned team of scientists\, scholars\, and award-winning filmmakers\, Jo
 urney of the Universe was produced and directed by Patsy Northcutt and Dav
 id Kennard. The story is also told with breathtaking clarity in the accomp
 anying book written by Swimme and Tucker and published by Yale University 
 Press. Points of contact: Cheryl Turney\, cherylturney@yahoo.com. and Deni
 se Frizzell\, deniseaf8@gmail.com.\nLearn more about Earth & Climate Justi
 ce Month here. \n \nRegister Now https://eruuf.org/calendar/calendar-view/
 event/11119-earth-climate-justice-month-film-the-journey-of-the-universe.h
 tml
DTSTART:20220416T223000Z
DTEND:20220416T233000Z
LOCATION:Fellowship Hall   ()
SUMMARY:Earth & Climate Justice Month: Film - The Journey of the Universe
URL:https://eruuf.org/calendar/calendar-view/event/11119-earth-climate-just
 ice-month-film-the-journey-of-the-universe.html
END:VEVENT
END:VCALENDAR
