BEGIN:VCALENDAR
VERSION:2.0
PRODID:-//https://eruuf.org///NONSGML kigkonsult.se iCalcreator 2.10.15//
METHOD:PUBLISH
BEGIN:VEVENT
UID:20260424T061034UTC-2239dlA30I@https://eruuf.org/
DTSTAMP:20260424T061034Z
DESCRIPTION:\nMonday - Sunday\, April 18-24: Plant-Based Eating Week\n\nEar
 th Justice Action Group's annual Earth Plant-Based Eating Week to support 
 you in your plant-based eating goals. \n \nLearn more about Earth & Climat
 e Justice Month here.  https://eruuf.org/calendar/calendar-view/event/1112
 0-earth-climate-justice-month-plant-based-eating-week.html
DTSTART;VALUE=DATE:20220417
LOCATION:TBD ()
SUMMARY:Earth & Climate Justice Month: Plant-Based Eating Week
URL:https://eruuf.org/calendar/calendar-view/event/11120-earth-climate-just
 ice-month-plant-based-eating-week.html
END:VEVENT
END:VCALENDAR
