BEGIN:VCALENDAR
VERSION:2.0
PRODID:-//https://eruuf.org///NONSGML kigkonsult.se iCalcreator 2.10.15//
METHOD:PUBLISH
BEGIN:VEVENT
UID:20260424T154228UTC-4844ANSpxI@https://eruuf.org/
DTSTAMP:20260424T154228Z
DESCRIPTION:\nMonday\, April 18\, 7:00-8:30 pm: Talk + Q&A with Dr. Jonathi
 ne Sheline (Register below)\n\nJoin us for a 30-minute talk from Dr. Sheli
 ne on the benefits of plant-based eating\, followed by a one-hour Q&A sess
 ion at which we can discuss various topics\, such as the environmental cos
 ts of animal agriculture\, what supplements you should take\, inexpensive 
 and quick plant-based meals\, good sources for recipes. Point of contact\,
  Jonathan Sheline\, jonsheline@gmail.com.\n \nLearn more about Earth & Cli
 mate Justice Month here.\n \nRegister Now https://eruuf.org/calendar/calen
 dar-view/event/11121-earth-climate-justice-month-talk-q-a-with-dr-jonathin
 e-sheline.html
DTSTART:20220418T230000Z
DTEND:20220419T003000Z
LOCATION:TBD ()
SUMMARY:Earth & Climate Justice Month: Talk + Q&A with Dr. Jonathine Shelin
 e
URL:https://eruuf.org/calendar/calendar-view/event/11121-earth-climate-just
 ice-month-talk-q-a-with-dr-jonathine-sheline.html
END:VEVENT
END:VCALENDAR
