BEGIN:VCALENDAR
VERSION:2.0
PRODID:-//https://eruuf.org///NONSGML kigkonsult.se iCalcreator 2.10.15//
METHOD:PUBLISH
BEGIN:VEVENT
UID:20260425T224218UTC-0961Cr6Esb@https://eruuf.org/
DTSTAMP:20260425T224218Z
DESCRIPTION:\nThursday\, April 21: 7:00-8:30 pm - Film: Eating Our Way To E
 xtinction via Zoom (Register below) (Repeat Showing)\n\nJoin us from home 
 and bring your favorite vegan movie snacks! Stay tuned for more details. P
 oint of contact\, Jonathan Sheline\, jonsheline@gmail.com.\n Learn more ab
 out Earth & Climate Justice Month here.\nRegister Now https://eruuf.org/ca
 lendar/calendar-view/event/11122-earth-climate-justice-month-film-eating-o
 ur-way-to-extinction-repeat-showing.html
DTSTART:20220421T230000Z
DTEND:20220422T003000Z
LOCATION:Online  (Online meetings are organized by the group leader. See th
 e meeting event details for information on how to join.)
SUMMARY:Earth & Climate Justice Month: Film - Eating Our Way to Extinction 
 (repeat showing)
URL:https://eruuf.org/calendar/calendar-view/event/11122-earth-climate-just
 ice-month-film-eating-our-way-to-extinction-repeat-showing.html
END:VEVENT
END:VCALENDAR
