BEGIN:VCALENDAR
VERSION:2.0
PRODID:-//https://eruuf.org///NONSGML kigkonsult.se iCalcreator 2.10.15//
METHOD:PUBLISH
BEGIN:VEVENT
UID:20260425T113222UTC-5435jGIKt1@https://eruuf.org/
DTSTAMP:20260425T113222Z
DESCRIPTION:\nSunday\, April 24: Congregation Celebration (Earth Day and Gr
 een Sanctuary Accreditation)\, 12:30 pm \n\nAll ERUUFians are invited to t
 his locally catered plant-based meal to celebrate Earth Day 2022 and our G
 reen Sanctuary accreditation\, awarded in February after five years of con
 gregational effort!  We'll enjoy fellowship\, listen to music\, eat delici
 ous food\, and share stories about what we learned during the month and th
 roughout the Green Sanctuary accreditation journey. To assist with food or
 dering\, please register below. Point of contact\, Denise Frizzell\, denis
 eaf8@gmail.com.\n \nRegister Now https://eruuf.org/calendar/calendar-view/
 event/11124-earth-climate-justice-month-earth-day-and-green-sanctuary-accr
 editation-celebration.html
DTSTART:20220424T160000Z
DTEND:20220424T180000Z
LOCATION:Fellowship Hall   ()
SUMMARY:Earth & Climate Justice Month: Earth Day and Green Sanctuary Accred
 itation Celebration
URL:https://eruuf.org/calendar/calendar-view/event/11124-earth-climate-just
 ice-month-earth-day-and-green-sanctuary-accreditation-celebration.html
END:VEVENT
END:VCALENDAR
