BEGIN:VCALENDAR
VERSION:2.0
PRODID:-//https://eruuf.org///NONSGML kigkonsult.se iCalcreator 2.10.15//
METHOD:PUBLISH
BEGIN:VEVENT
UID:20260422T181531UTC-2767sPSHbp@https://eruuf.org/
DTSTAMP:20260422T181531Z
DESCRIPTION:Contact - Kathy Cronin - kcronin@eruuf.org https://eruuf.org/ca
 lendar/calendar-view/event/1113-re-council.html
DTSTART:20150202T233000Z
DTEND:20150207T023000Z
LOCATION:Room 1 - CARE Building ()
SUMMARY:RE Council
URL:https://eruuf.org/calendar/calendar-view/event/1113-re-council.html
END:VEVENT
END:VCALENDAR
