BEGIN:VCALENDAR
VERSION:2.0
PRODID:-//https://eruuf.org///NONSGML kigkonsult.se iCalcreator 2.10.15//
METHOD:PUBLISH
BEGIN:VEVENT
UID:20260419T230242UTC-2435FU5mTP@https://eruuf.org/
DTSTAMP:20260419T230242Z
DESCRIPTION: https://eruuf.org/calendar/calendar-view/event/1114-eruuf-chri
 stian-fellowship.html
DTSTART:20150609T230000Z
DTEND:20150610T003000Z
LOCATION:Room 3 - CARE Building ()
SUMMARY:ERUUF Christian Fellowship
URL:https://eruuf.org/calendar/calendar-view/event/1114-eruuf-christian-fel
 lowship.html
END:VEVENT
END:VCALENDAR
