BEGIN:VCALENDAR
VERSION:2.0
PRODID:-//https://eruuf.org///NONSGML kigkonsult.se iCalcreator 2.10.15//
METHOD:PUBLISH
BEGIN:VEVENT
UID:20260421T025657UTC-7479uGGMxK@https://eruuf.org/
DTSTAMP:20260421T025657Z
DESCRIPTION: https://eruuf.org/calendar/calendar-view/event/1115-eruuf-chri
 stian-fellowship.html
DTSTART:20150512T230000Z
DTEND:20150513T003000Z
LOCATION:Room 3 - CARE Building ()
SUMMARY:ERUUF Christian Fellowship
URL:https://eruuf.org/calendar/calendar-view/event/1115-eruuf-christian-fel
 lowship.html
END:VEVENT
END:VCALENDAR
