BEGIN:VCALENDAR
VERSION:2.0
PRODID:-//https://eruuf.org///NONSGML kigkonsult.se iCalcreator 2.10.15//
METHOD:PUBLISH
BEGIN:VEVENT
UID:20260420T133155UTC-77042Xw0bZ@https://eruuf.org/
DTSTAMP:20260420T133155Z
DESCRIPTION: https://eruuf.org/calendar/calendar-view/event/1116-eruuf-chri
 stian-fellowship.html
DTSTART:20150414T230000Z
DTEND:20150415T003000Z
LOCATION:Room 3 - CARE Building ()
SUMMARY:ERUUF Christian Fellowship
URL:https://eruuf.org/calendar/calendar-view/event/1116-eruuf-christian-fel
 lowship.html
END:VEVENT
END:VCALENDAR
