BEGIN:VCALENDAR
VERSION:2.0
PRODID:-//https://eruuf.org///NONSGML kigkonsult.se iCalcreator 2.10.15//
METHOD:PUBLISH
BEGIN:VEVENT
UID:20260422T204248UTC-3000PugjUW@https://eruuf.org/
DTSTAMP:20260422T204248Z
DESCRIPTION:Voluntary Simplicity: Sundays\, April 10 - May 8 (5 sessions)\n
 9:30 am Fellowship Hall\, In-Person only\n==\nThis is a participatory disc
 ussion course about ways to simplify and enrich our lives\, avoid over-con
 sumption and focus on what's important. As a practice\, to simplify is to 
 reduce to essentials\, to streamline\, and to clarify. This curriculum exa
 mines the view that each person can\, at the same time\, improve his or he
 r quality of life\, reduce expenses\, and live more lightly on the Earth. 
 \nIt also explores how to be at ease\, free from compulsion and attachment
 \, and without the need to possess or control. The discipline is to consci
 ously simplify\, by gradually releasing the things\, attitudes\, and commi
 tments that distract us in our daily lives. Note: you need to commit to co
 ming to at least 4 of the 5 sessions\, preferably all five.\n \nWe are usi
 ng the book Voluntary Simplicity available for purchase here or in the ERU
 UF Office (cash or check only\, please). The ERUUF office will also have c
 opies to borrow. The office is open Tuesday-Thursday 10 am-4 pm and Sunday
 s after service.\n \nThis Finding Yourself at ERUUF adult program class is
  presented as part of ERUUF's Earth and Climate Justice Month. Questions? 
 Contact Jonathan Sheline\n \nQuote from Jonathan: 'I took an earlier versi
 on of this course in 2000\, and it changed my life. By getting to know a s
 mall group of folks with similar values\, it jump-started my involvement w
 ith ERUUF.'\n \nRegister Now https://eruuf.org/calendar/calendar-view/even
 t/11169-voluntary-simplicity-series-from-earth-justice-action-group.html
DTSTART:20220424T133000Z
DTEND:20220424T143000Z
LOCATION:ERUUF Fellowship Hall (4907 Garrett Road)
SUMMARY:Voluntary Simplicity Series from Earth Justice Action Group
URL:https://eruuf.org/calendar/calendar-view/event/11169-voluntary-simplici
 ty-series-from-earth-justice-action-group.html
END:VEVENT
END:VCALENDAR
