BEGIN:VCALENDAR
VERSION:2.0
PRODID:-//https://eruuf.org///NONSGML kigkonsult.se iCalcreator 2.10.15//
METHOD:PUBLISH
BEGIN:VEVENT
UID:20260421T043904UTC-0995Mvn5lV@https://eruuf.org/
DTSTAMP:20260421T043904Z
DESCRIPTION: https://eruuf.org/calendar/calendar-view/event/1117-eruuf-chri
 stian-fellowship.html
DTSTART:20150310T230000Z
DTEND:20150311T003000Z
LOCATION:Room 3 - CARE Building ()
SUMMARY:ERUUF Christian Fellowship
URL:https://eruuf.org/calendar/calendar-view/event/1117-eruuf-christian-fel
 lowship.html
END:VEVENT
END:VCALENDAR
