BEGIN:VCALENDAR
VERSION:2.0
PRODID:-//https://eruuf.org///NONSGML kigkonsult.se iCalcreator 2.10.15//
METHOD:PUBLISH
BEGIN:VEVENT
UID:20260425T142549UTC-10624VBUHo@https://eruuf.org/
DTSTAMP:20260425T142549Z
DESCRIPTION:Join the Board and Senior Staff for a Finance Forum on Sunday\,
  April 10 at noon in the Fellowship Hall or by zoom link below.   We'll re
 view ERUUF's new staffing plan and the budget that the Board is considerin
 g for the coming year. We want to share this information with our members 
 before the Board votes on the proposed budget later this month. We really 
 want to hear your ideas\, questions\, etc.\nNeed more information?  email 
 board@eruuf.org    \n*****************************************ERUUF is inv
 iting you to a scheduled Zoom meeting.Topic: Finance ForumTime: Apr 10\, 2
 022 12:00 PM Eastern Time (US and Canada)Join Zoom Meeting https://us02web
 .zoom.us/j/9172424661Meeting ID: 917 242 4661One tap mobile+13017158592\,\
 ,9172424661# US (Washington DC)     https://eruuf.org/calendar/calendar-vi
 ew/event/11178-finance-forum-april-10.html
DTSTART:20220410T160000Z
DTEND:20220410T170000Z
LOCATION:ERUUF Fellowship Hall (4907 Garrett Road)
SUMMARY:Finance Forum April 10
URL:https://eruuf.org/calendar/calendar-view/event/11178-finance-forum-apri
 l-10.html
END:VEVENT
END:VCALENDAR
