BEGIN:VCALENDAR
VERSION:2.0
PRODID:-//https://eruuf.org///NONSGML kigkonsult.se iCalcreator 2.10.15//
METHOD:PUBLISH
BEGIN:VEVENT
UID:20260421T014626UTC-51946X2mXN@https://eruuf.org/
DTSTAMP:20260421T014626Z
DESCRIPTION: https://eruuf.org/calendar/calendar-view/event/1118-eruuf-chri
 stian-fellowship.html
DTSTART:20150211T000000Z
DTEND:20150211T013000Z
LOCATION:Room 3 - CARE Building ()
SUMMARY:ERUUF Christian Fellowship
URL:https://eruuf.org/calendar/calendar-view/event/1118-eruuf-christian-fel
 lowship.html
END:VEVENT
END:VCALENDAR
