BEGIN:VCALENDAR
VERSION:2.0
PRODID:-//https://eruuf.org///NONSGML kigkonsult.se iCalcreator 2.10.15//
METHOD:PUBLISH
BEGIN:VEVENT
UID:20260421T144725UTC-8616lV53EX@https://eruuf.org/
DTSTAMP:20260421T144725Z
DESCRIPTION:On Sunday\, May 22\, 2022 at 12:30 pm ERUUF will hold a multi-p
 latform Annual Meeting of the Fellowship. This is a wonderful opportunity 
 for our members to engage in the governance of our community live and in-p
 erson for the first time in three years! We need a quorum of 10% of our me
 mbership to open this meeting\, so we encourage all of our members to mark
  this date on your calendar and plan to attend.\nUnder our model of policy
  governance\, the congregation gathers to vote on important ERUUF business
 \, including reviewing and voting on our budget\, electing members to our 
 Board of Trustees\, Nominating Committee\, and Healthy Congregations Commi
 ttee. You will also hear from ERUUF leadership regarding key accomplishmen
 ts for this past year and we will be holding a special farewell ceremony f
 or Rev Cayer. There are three participation options available:\n\n\n In-pe
 rson: Members are encouraged to attend in person. To attend in person\, re
 gister at the tables outside the Sanctuary after service on the 22nd. If y
 ou would like a lunch or need childcare\, please let us know by filling ou
 t this survey by May 18th.\n\nOnline: If you are not able to attend in per
 son\, you may register in advance to attend via Zoom. You must register by
  12:00 pm on Saturday\, May 21\, and will receive a Zoom link via email. I
 nstructions for participating via Zoom may be found here.\nVoting by Absen
 tee Ballot: Those otherwise unable to attend may still vote by absentee ba
 llot. Absentee ballots will be accepted until 12:00 pm on Saturday\, May 2
 1. You may vote by absentee ballot by clicking here.\n\nTo prepare for thi
 s important meeting\, members can review relevant materials in advance:\nA
 gendaBoard LetterNominating Committee Slate Budget NarrativeBudgetMinutes 
 from the 2021 Annual MeetingMinutes from Special Congregational Meeting to
  Call Rev Jacqueline BrettInstructions for participation via zoomRules of 
 procedure\n \n \nPlease email board@eruuf.org with any questions. https://
 eruuf.org/calendar/calendar-view/event/11180-annual-meeting-2022.html
DTSTART:20220522T163000Z
DTEND:20220522T180000Z
LOCATION:ERUUF (Durham\, NC)
SUMMARY:Annual Meeting 2022
URL:https://eruuf.org/calendar/calendar-view/event/11180-annual-meeting-202
 2.html
END:VEVENT
END:VCALENDAR
