BEGIN:VCALENDAR
VERSION:2.0
PRODID:-//https://eruuf.org///NONSGML kigkonsult.se iCalcreator 2.10.15//
METHOD:PUBLISH
BEGIN:VEVENT
UID:20260425T222420UTC-5434WVBkaS@https://eruuf.org/
DTSTAMP:20260425T222420Z
DESCRIPTION:Saturday\, May 21\, 7:30 pm\, ERUUF Sanctuary\nAfter 14 years\,
  Rev. Cayer is leaving us. Put this celebration on your calendar now! You 
 won’t want to miss this festive occasion. Program\, music\, food\, and dan
 cing\, plus a surprise or two. \nArrive shortly after the Sanctuary doors 
 open at 7:15 pm.  A short program of music and speakers will begin promptl
 y at 7:30 pm.  All are welcome\, including children. After the program\, m
 ove over to the Fellowship Hall for food\, fun\, and dancing!\nWill you at
 tend? Could you bring finger food? Could you help to set up and clean up? 
 Great! Let us know your intentions by clicking the RSVP button below.\nRSV
 P  https://eruuf.org/calendar/calendar-view/event/11183-rev-cayer-s-goodby
 e-celebration.html
DTSTART:20220521T233000Z
DTEND:20220522T003000Z
LOCATION:Sanctuary - ERUUF   (4907 Garrett Road\, Durham\, NC 27707  )
SUMMARY:Rev. Cayer's Goodbye Celebration
URL:https://eruuf.org/calendar/calendar-view/event/11183-rev-cayer-s-goodby
 e-celebration.html
END:VEVENT
END:VCALENDAR
