BEGIN:VCALENDAR
VERSION:2.0
PRODID:-//https://eruuf.org///NONSGML kigkonsult.se iCalcreator 2.10.15//
METHOD:PUBLISH
BEGIN:VEVENT
UID:20260423T123152UTC-3186HDme7P@https://eruuf.org/
DTSTAMP:20260423T123152Z
DESCRIPTION:\nSunday\, May 1 -  Film: Youth vs. Gov offered by Interfaith P
 ower & Light\n\nWatch the film\, Youth vs. Gov. This film is the featured 
 film of Interfaith Power & Light’s Faith Climate Action Week\, April 22-Ma
 y 1\, 2022. The theme this year is “Sacred Trust: Our children’s right to 
 a livable future” which will examine our responsibility to safeguard our E
 arth for future generations\, and how our faiths call us to respond with b
 old and just solutions to climate change. On April 27\, 4:30 pm PT\, Inter
 faith Power & Light will host a webinar with the filmmaker Christi Cooper\
 , and two youth plaintiffs from the film. Check the e-news and ERUUF calen
 dar of events for details closer to the date. \nPoint of contact\, Tom Fle
 tcher\, tffletch@gmail.com.\n \nLearn more about Earth & Climate Justice M
 onth here.  https://eruuf.org/calendar/calendar-view/event/11187-new-event
 .html
DTSTART:20220501T223000Z
DTEND:20220502T003000Z
LOCATION:Commons Room   (4907 Garrett Rd\, Durham\, NC 27707  )
SUMMARY:New event
URL:https://eruuf.org/calendar/calendar-view/event/11187-new-event.html
END:VEVENT
END:VCALENDAR
