BEGIN:VCALENDAR
VERSION:2.0
PRODID:-//https://eruuf.org///NONSGML kigkonsult.se iCalcreator 2.10.15//
METHOD:PUBLISH
BEGIN:VEVENT
UID:20260422T024951UTC-03918KRFSJ@https://eruuf.org/
DTSTAMP:20260422T024951Z
DESCRIPTION:\nAs has long been planned\, Rev. Cayer's ministry at ERUUF is 
 nearing its conclusion.  As part of bringing closure to this successful mi
 nistry\, Deb will hold 'Public Office Hours' at the following times and pl
 aces. Anyone who would like to come by to visit with her to talk\, share m
 emories\, and say goodbye is welcome to buy themselves a beverage and join
  her for casual conversation:  \n\n \nTuesday\, May 10\, 2:00 - 3:30 pm\, 
 Caribou Coffee\, 1408 E. Franklin St\, Chapel Hill \nTuesday\, May 10\,  7
 :00 - 8:30 pm\, Online goodbye visit with Rev. Cayer\, see Zoom link and p
 assword below.  \nWednesday\, May 25\, 10:00 - 11:30 am\, Sandy Creek Park
  Pavilion\, Durham    \n \n\n\nAnd finally\, there will be a 'pandemic saf
 er' celebration for all ages in our community on Saturday evening\, May 21
  at 7:30 pm. We'll begin with music by ERUUF members in the Sanctuary\, th
 en move to the Fellowship Hall and plaza for light refreshments and dancin
 g.  All are welcome.\n\n \nJoin Virtual Meeting with Rev. Cayer\n \n\nMeet
 ing ID: 992 8351 4385Passcode: 831325One tap mobile+13017158592\,\,9928351
 4385# US (Washington DC)+13126266799\,\,99283514385# US (Chicago) https://
 eruuf.org/calendar/calendar-view/event/11193-online-goodbye-visit-with-rev
 -cayer.html
DTSTART:20220510T230000Z
DTEND:20220511T003000Z
LOCATION:Online  (Online meetings are organized by the group leader. See th
 e meeting event details for information on how to join.)
SUMMARY:Online Goodbye Visit with Rev. Cayer
URL:https://eruuf.org/calendar/calendar-view/event/11193-online-goodbye-vis
 it-with-rev-cayer.html
END:VEVENT
END:VCALENDAR
