BEGIN:VCALENDAR
VERSION:2.0
PRODID:-//https://eruuf.org///NONSGML kigkonsult.se iCalcreator 2.10.15//
METHOD:PUBLISH
BEGIN:VEVENT
UID:20260425T133731UTC-1998iGmH0v@https://eruuf.org/
DTSTAMP:20260425T133731Z
DESCRIPTION:Contact: Dave Austin\; daustin@mindspring.com  https://eruuf.or
 g/calendar/calendar-view/event/1121-justice-council.html
DTSTART:20151013T230000Z
DTEND:20151014T010000Z
LOCATION:Room 1 - CARE Building ()
SUMMARY:Justice Council
URL:https://eruuf.org/calendar/calendar-view/event/1121-justice-council.htm
 l
END:VEVENT
END:VCALENDAR
