BEGIN:VCALENDAR
VERSION:2.0
PRODID:-//https://eruuf.org///NONSGML kigkonsult.se iCalcreator 2.10.15//
METHOD:PUBLISH
BEGIN:VEVENT
UID:20260426T033934UTC-3449NXZWZ2@https://eruuf.org/
DTSTAMP:20260426T033934Z
DESCRIPTION:Contact: Dave Austin\; daustin@mindspring.com  https://eruuf.or
 g/calendar/calendar-view/event/1125-justice-council.html
DTSTART:20150609T230000Z
DTEND:20150610T010000Z
LOCATION:Room 1 - CARE Building ()
SUMMARY:Justice Council
URL:https://eruuf.org/calendar/calendar-view/event/1125-justice-council.htm
 l
END:VEVENT
END:VCALENDAR
