BEGIN:VCALENDAR
VERSION:2.0
PRODID:-//https://eruuf.org///NONSGML kigkonsult.se iCalcreator 2.10.15//
METHOD:PUBLISH
BEGIN:VEVENT
UID:20260422T023105UTC-1634o5NUiV@https://eruuf.org/
DTSTAMP:20260422T023105Z
DESCRIPTION:We’re a free\, inclusive\, fun\, and rhythmic community that we
 lcomes drummers of all ages\, style\, and stripe. Bring your percussion in
 struments (we have plenty of extras)\, drum stories\, and traditions to sh
 are with the group.  Even banjos are welcome!Typically\, the first half-ho
 ur will focus on lessons and demonstrations. You can also find us here. Qu
 estions? Contact Cliff Missen. https://eruuf.org/calendar/calendar-view/ev
 ent/11577-eruuf-drummers-circle.html
DTSTART:20220929T230000Z
DTEND:20220930T010000Z
LOCATION:Commons Room   (4907 Garrett Rd\, Durham\, NC 27707  )
SUMMARY:ERUUF Drummers Circle
URL:https://eruuf.org/calendar/calendar-view/event/11577-eruuf-drummers-cir
 cle.html
END:VEVENT
END:VCALENDAR
