BEGIN:VCALENDAR
VERSION:2.0
PRODID:-//https://eruuf.org///NONSGML kigkonsult.se iCalcreator 2.10.15//
METHOD:PUBLISH
BEGIN:VEVENT
UID:20260425T221433UTC-2278DHlU0m@https://eruuf.org/
DTSTAMP:20260425T221433Z
DESCRIPTION: \n\nA Celebration of Rainbow LightEno River CUUPS Summer Solst
 ice Litha GatheringWhen: Tuesday\, June 21\, 6:30 pm Location: Commons Roo
 m\nTrue community is based on upon equality\, mutuality\, and reciprocity.
  It affirms the richness of individual diversity as well as the common hum
 an ties that bind us together. ~ Pauli Murray (2006)\, “Pauli Murray: Sele
 cted Sermons and Writings”\nYou are warmly invited to a special gathering 
 honoring Litha / Summer Solstice. We look forward to joining together on S
 ummer Solstice day for A Celebration of Rainbow Light. Together let's crea
 te a proud\, heart-full circle of inclusivity for each other and for our t
 wo wonderful incoming ministers\, Rev. Jacqueline Brett (she/they)\, Lead 
 Minister\, and Rev. James Lewis (he/they)\, Minister of Lifespan Faith Dev
 elopment and Pastoral Care. On this day of greatest light\, we will welcom
 e and embrace the myriads of rainbow lights radiant in ourselves\, in our 
 families\, in our communities\, and in our world\, honoring the wisdom\, t
 ruth\, blessings\, and illumination in all the beautiful facets of our sha
 red human experience. Our community celebration will include singing\, sto
 rytelling\, Calling the Directions\, and the Dances of Universal Peace\, a
 lso known as Sufi Dancing\, which are gentle circle dances accessible to a
 ll. We are delighted to welcome Rev. Perry Pike\, Dance creator and worshi
 p leader\, and Richard Mullinax\, Perry's partner and Dance musician. This
  is a participatory gathering open to all adults. \n\n \n \nFor more infor
 mation or to be added to the Eno River CUUPS mailing list\, contact Lila R
 osa.  https://eruuf.org/calendar/calendar-view/event/11629-eno-river-cuups
 -summer-solstice-litha-celebration-a-celebration-of-rainbow-light.html
DTSTART:20210621T223000Z
DTEND:20210621T233000Z
LOCATION:Commons Room   (4907 Garrett Rd\, Durham\, NC 27707  )
SUMMARY:Eno River CUUPS Summer Solstice Litha Celebration - A Celebration o
 f Rainbow Light
URL:https://eruuf.org/calendar/calendar-view/event/11629-eno-river-cuups-su
 mmer-solstice-litha-celebration-a-celebration-of-rainbow-light.html
END:VEVENT
END:VCALENDAR
