BEGIN:VCALENDAR
VERSION:2.0
PRODID:-//https://eruuf.org///NONSGML kigkonsult.se iCalcreator 2.10.15//
METHOD:PUBLISH
BEGIN:VEVENT
UID:20260423T100242UTC-0620K3HWAW@https://eruuf.org/
DTSTAMP:20260423T100242Z
DESCRIPTION:The ERUUF Book Club is currently meeting online via Zoom only. 
 All\, especially first-timers\, are invited for book discussion and Fellow
 ship. Contact Victoria at Bookclub@ERUUF.org.\n\n\n\n\nMarch\n21\nHow Much
  of These Hills Is Gold\nC. Pam Zhang\n\n\nApril\n18\nBraiding Sweetgrass
 \nRobin Wall Kimmerer\n\n\nMay\n16\nThe Henna Artist\nAlka Joshi\n\n\nJune
 \n20\nThe Code Breaker\nWalter Isaacson\n\n\nJuly\n12\n10 Minutes 38 Secon
 ds in This Strange World\nElif Shafak\n\n\nAugust\n15\nGlory/ We Need New 
 Names\nNoViolet Bulawayo\n\n\nSeptember\n19\nThe Personal Librarian\nMarie
  Benedict\n\n\nOctober\n17\nDemon Copperhead\nBarbara Kingsolver\n\n\n\n h
 ttps://eruuf.org/calendar/calendar-view/event/11640-eruuf-book-club.html
DTSTART:20230418T230000Z
DTEND:20230419T000000Z
LOCATION:Online  (Online meetings are organized by the group leader. See th
 e meeting event details for information on how to join.)
SUMMARY:ERUUF Book Club
URL:https://eruuf.org/calendar/calendar-view/event/11640-eruuf-book-club.ht
 ml
END:VEVENT
END:VCALENDAR
