BEGIN:VCALENDAR
VERSION:2.0
PRODID:-//https://eruuf.org///NONSGML kigkonsult.se iCalcreator 2.10.15//
METHOD:PUBLISH
BEGIN:VEVENT
UID:20260422T125335UTC-6279NaGWGD@https://eruuf.org/
DTSTAMP:20260422T125335Z
DESCRIPTION: https://eruuf.org/calendar/calendar-view/event/11776-stewardsh
 ip-steering-team.html
DTSTART:20221004T190055Z
DTEND:20221004T203000Z
LOCATION:TBD ()
SUMMARY:Stewardship Steering Team
URL:https://eruuf.org/calendar/calendar-view/event/11776-stewardship-steeri
 ng-team.html
END:VEVENT
END:VCALENDAR
