BEGIN:VCALENDAR
VERSION:2.0
PRODID:-//https://eruuf.org///NONSGML kigkonsult.se iCalcreator 2.10.15//
METHOD:PUBLISH
BEGIN:VEVENT
UID:20260423T021059UTC-1629GjBMnD@https://eruuf.org/
DTSTAMP:20260423T021059Z
DESCRIPTION: https://eruuf.org/calendar/calendar-view/event/11777-stewardsh
 ip-steering-team.html
DTSTART:20221206T200055Z
DTEND:20221206T213000Z
LOCATION:TBD ()
SUMMARY:Stewardship Steering Team
URL:https://eruuf.org/calendar/calendar-view/event/11777-stewardship-steeri
 ng-team.html
END:VEVENT
END:VCALENDAR
