BEGIN:VCALENDAR
VERSION:2.0
PRODID:-//https://eruuf.org///NONSGML kigkonsult.se iCalcreator 2.10.15//
METHOD:PUBLISH
BEGIN:VEVENT
UID:20260423T195312UTC-7998DplV5n@https://eruuf.org/
DTSTAMP:20260423T195312Z
DESCRIPTION: https://eruuf.org/calendar/calendar-view/event/11778-stewardsh
 ip-steering-team.html
DTSTART:20230207T200055Z
DTEND:20230207T213000Z
LOCATION:TBD ()
SUMMARY:Stewardship Steering Team
URL:https://eruuf.org/calendar/calendar-view/event/11778-stewardship-steeri
 ng-team.html
END:VEVENT
END:VCALENDAR
