BEGIN:VCALENDAR
VERSION:2.0
PRODID:-//https://eruuf.org///NONSGML kigkonsult.se iCalcreator 2.10.15//
METHOD:PUBLISH
BEGIN:VEVENT
UID:20260422T070855UTC-31434pVMfM@https://eruuf.org/
DTSTAMP:20260422T070855Z
DESCRIPTION: https://eruuf.org/calendar/calendar-view/event/11779-stewardsh
 ip-steering-team.html
DTSTART:20230404T190055Z
DTEND:20230404T203000Z
LOCATION:TBD ()
SUMMARY:Stewardship Steering Team
URL:https://eruuf.org/calendar/calendar-view/event/11779-stewardship-steeri
 ng-team.html
END:VEVENT
END:VCALENDAR
