BEGIN:VCALENDAR
VERSION:2.0
PRODID:-//https://eruuf.org///NONSGML kigkonsult.se iCalcreator 2.10.15//
METHOD:PUBLISH
BEGIN:VEVENT
UID:20260422T154717UTC-7642Ctks6x@https://eruuf.org/
DTSTAMP:20260422T154717Z
DESCRIPTION:Please join us to celebrate Lammas\, the sacred Cross Quarter h
 alfway between Summer Solstice and Autumn Equinox. This Cross Quarter is t
 raditionally honored as the season of harvest's First Fruits\, a time of i
 ncreasing plenty for everyone. The word Lammas comes from 'loaf mass' ackn
 owledging the first breads baked from the fields' newly ripening grain\, a
 nd shared in community with sacred intent. We will celebrate with a 'Pagan
  Thanksgiving\,' an opportunity to harvest our many blessings. We will exp
 lore stories of Grain Goddesses and Gods -- Demeter\, Ceres\, Macha\, Tamm
 uz\, Lugh\, and more. For our potluck feast\, fresh food sourced from loca
 l gardens will be most appreciated. Gluten-free and vegan options are welc
 omed.\nPlease RSVP to Susan Baylies (919 401-9591 or sbaylies@gmail.com) w
 ith what dish you plan to bring. This is a participatory gathering open to
  all adults. For more information or to be added to the Eno River CUUPS ma
 iling list\, contact Lila Rosa (LKRosa1@aol.com). https://eruuf.org/calend
 ar/calendar-view/event/11967-cuups-lammas-lughnasa-cross-quarter-celebrati
 on.html
DTSTART:20220807T160000Z
DTEND:20220807T180000Z
LOCATION:ERUUF Fellowship Hall (4907 Garrett Road)
SUMMARY:CUUPS Lammas / Lughnasa Cross-Quarter Celebration
URL:https://eruuf.org/calendar/calendar-view/event/11967-cuups-lammas-lughn
 asa-cross-quarter-celebration.html
END:VEVENT
END:VCALENDAR
