BEGIN:VCALENDAR
VERSION:2.0
PRODID:-//https://eruuf.org///NONSGML kigkonsult.se iCalcreator 2.10.15//
METHOD:PUBLISH
BEGIN:VEVENT
UID:20260423T181830UTC-0273aFgXox@https://eruuf.org/
DTSTAMP:20260423T181830Z
DESCRIPTION:Drumming group.  All are welcome.  Contact: Beth Seigler - beth
 seigler@embarqmail.com  https://eruuf.org/calendar/calendar-view/event/119
 8-river-rhythms.html
DTSTART:20151122T233000Z
DTEND:20151123T010000Z
LOCATION:Room 4/5   (4907 Garrett Rd\, Durham\, NC 27707   )
SUMMARY:River Rhythms
URL:https://eruuf.org/calendar/calendar-view/event/1198-river-rhythms.html
END:VEVENT
END:VCALENDAR
