BEGIN:VCALENDAR
VERSION:2.0
PRODID:-//https://eruuf.org///NONSGML kigkonsult.se iCalcreator 2.10.15//
METHOD:PUBLISH
BEGIN:VEVENT
UID:20260423T181248UTC-5070Tul7Tl@https://eruuf.org/
DTSTAMP:20260423T181248Z
DESCRIPTION:Montly Board meetings open to ERUUF members. Questions? Contact
  board@eruuf.org.  https://eruuf.org/calendar/calendar-view/event/12066-er
 uuf-board-of-trustees-monthly-meeting.html
DTSTART:20220719T230000Z
DTEND:20220720T010000Z
LOCATION:Room 1 - CARE Building ()
SUMMARY:ERUUF Board of Trustees Monthly Meeting
URL:https://eruuf.org/calendar/calendar-view/event/12066-eruuf-board-of-tru
 stees-monthly-meeting.html
END:VEVENT
END:VCALENDAR
