BEGIN:VCALENDAR
VERSION:2.0
PRODID:-//https://eruuf.org///NONSGML kigkonsult.se iCalcreator 2.10.15//
METHOD:PUBLISH
BEGIN:VEVENT
UID:20260423T203745UTC-2613ZB3BKr@https://eruuf.org/
DTSTAMP:20260423T203745Z
DESCRIPTION:Montly Board meetings open to ERUUF members. Questions? Contact
  board@eruuf.org.  https://eruuf.org/calendar/calendar-view/event/12073-er
 uuf-board-of-trustees-monthly-meeting.html
DTSTART:20230222T000000Z
DTEND:20230222T020000Z
LOCATION:Room 1 - CARE Building ()
SUMMARY:ERUUF Board of Trustees Monthly Meeting
URL:https://eruuf.org/calendar/calendar-view/event/12073-eruuf-board-of-tru
 stees-monthly-meeting.html
END:VEVENT
END:VCALENDAR
