BEGIN:VCALENDAR
VERSION:2.0
PRODID:-//https://eruuf.org///NONSGML kigkonsult.se iCalcreator 2.10.15//
METHOD:PUBLISH
BEGIN:VEVENT
UID:20260423T175030UTC-1595vsKszm@https://eruuf.org/
DTSTAMP:20260423T175030Z
DESCRIPTION:Third Act is people over the age of 60 — “experienced Americans
 ” — determined to change the world for the better. We muster political and
  economic power to move Washington and Wall Street in the name of a fairer
 \, more sustainable society and planet. \nFor more information\, please co
 ntact Betsy Bickel at betsybickel@gmail.com.  https://eruuf.org/calendar/c
 alendar-view/event/12122-earth-justice.html
DTSTART:20220807T183000Z
DTEND:20220807T203000Z
LOCATION:ERUUF Fellowship Hall (4907 Garrett Road)
SUMMARY:Earth Justice
URL:https://eruuf.org/calendar/calendar-view/event/12122-earth-justice.html
END:VEVENT
END:VCALENDAR
