BEGIN:VCALENDAR
VERSION:2.0
PRODID:-//https://eruuf.org///NONSGML kigkonsult.se iCalcreator 2.10.15//
METHOD:PUBLISH
BEGIN:VEVENT
UID:20260421T102225UTC-2007i6k1te@https://eruuf.org/
DTSTAMP:20260421T102225Z
DESCRIPTION:Drumming group.  All are welcome.  Contact: Beth Seigler - beth
 seigler@embarqmail.com  https://eruuf.org/calendar/calendar-view/event/121
 3-river-rhythms.html
DTSTART:20150809T223000Z
DTEND:20150810T000000Z
LOCATION:Room 4/5   (4907 Garrett Rd\, Durham\, NC 27707   )
SUMMARY:River Rhythms
URL:https://eruuf.org/calendar/calendar-view/event/1213-river-rhythms.html
END:VEVENT
END:VCALENDAR
