BEGIN:VCALENDAR
VERSION:2.0
PRODID:-//https://eruuf.org///NONSGML kigkonsult.se iCalcreator 2.10.15//
METHOD:PUBLISH
BEGIN:VEVENT
UID:20260424T005640UTC-3101kLU26V@https://eruuf.org/
DTSTAMP:20260424T005640Z
DESCRIPTION:You are warmly invited to join Eno River CUUPS in person to cel
 ebrate Mabon / Autumn Equinox\, the sacred Balance of Day and Night\, Ligh
 t and Dark\, all over Planet Earth. The nights grow longer and the days ar
 e shorter and cooler. The sap of trees returns to their roots deep undergr
 ound\, changing the green of Summer to the fire of Autumn. Traditionally t
 his powerful season is commemorated as the Second Harvest\, honoring the c
 ornucopia of fruits and vegetables that flows in such bounty all around us
  at this time of year.\nCome celebrate Mother Earth's precious gifts of sw
 eetness and nourishment\, beauty and balance. This gathering is open to al
 l like-hearted adults. To be added to the Eno River CUUPS email list\, con
 tact Lila Rosa (LKRosa1@aol.com). https://eruuf.org/calendar/calendar-view
 /event/12183-annual-celebration-of-autumn-equinox-mabon.html
DTSTART:20220918T180000Z
DTEND:20220918T193000Z
LOCATION:ERUUF Commons Room (4907 Garrett Road)
SUMMARY:Annual Celebration of Autumn Equinox / Mabon
URL:https://eruuf.org/calendar/calendar-view/event/12183-annual-celebration
 -of-autumn-equinox-mabon.html
END:VEVENT
END:VCALENDAR
