BEGIN:VCALENDAR
VERSION:2.0
PRODID:-//https://eruuf.org///NONSGML kigkonsult.se iCalcreator 2.10.15//
METHOD:PUBLISH
BEGIN:VEVENT
UID:20260422T153142UTC-4460DZmFTc@https://eruuf.org/
DTSTAMP:20260422T153142Z
DESCRIPTION:This is the day that we acknowledge and celebrate all the group
 s\, committees\, functions and special events at ERUUF. You will be amazed
  at all the different ways people are a part of ERUUF. Come find out how y
 ou can connect! https://eruuf.org/calendar/calendar-view/event/12223-conne
 ctions-fair.html
DTSTART:20220918T150000Z
DTEND:20220918T170000Z
LOCATION:ERUUF Campus   (4907 Garrett Rd\, Durham\, NC 27707    )
SUMMARY:Connections Fair
URL:https://eruuf.org/calendar/calendar-view/event/12223-connections-fair.h
 tml
END:VEVENT
END:VCALENDAR
