BEGIN:VCALENDAR
VERSION:2.0
PRODID:-//https://eruuf.org///NONSGML kigkonsult.se iCalcreator 2.10.15//
METHOD:PUBLISH
BEGIN:VEVENT
UID:20260425T103356UTC-6949RLio9z@https://eruuf.org/
DTSTAMP:20260425T103356Z
DESCRIPTION:Have questions about estate planning? This is your opportunity 
 to hear from expert: The Stewardship Steering Team hosts local attorney Al
 an Campbell. Alan will review an assortment of estate planning actions and
  situations\, some that are helpful and those that can create headaches --
  and how to avoid them. Selected topics will include Minors as Beneficiari
 es\, Giving to Charity\, Gifting Real Estate During Life\, Car Title Troub
 les\, Dysfunctional Beneficiaries and More!\nNot just for retirees! The pr
 esentation is helpful to adults of all ages – you’re never too young for e
 state planning!\nReach out to Cindy Kuhn for more info! \n \n  https://eru
 uf.org/calendar/calendar-view/event/12225-estate-planning-seminar.html
DTSTART:20221026T223000Z
DTEND:20221027T000000Z
LOCATION:CARE Building\, Room 4/5 (4907 Garrett Road)
SUMMARY:Estate Planning Seminar
URL:https://eruuf.org/calendar/calendar-view/event/12225-estate-planning-se
 minar.html
END:VEVENT
END:VCALENDAR
