BEGIN:VCALENDAR
VERSION:2.0
PRODID:-//https://eruuf.org///NONSGML kigkonsult.se iCalcreator 2.10.15//
METHOD:PUBLISH
BEGIN:VEVENT
UID:20260423T140658UTC-6891VGv7ZA@https://eruuf.org/
DTSTAMP:20260423T140658Z
DESCRIPTION:Third Act is people over the age of 60 — “experienced Americans
 ” — determined to change the world for the better. We muster political and
  economic power to move Washington and Wall Street in the name of a fairer
 \, more sustainable society and planet. If you are in your Third Act\, we 
 need your ideas and energy to promote climate justice!\nFor more informati
 on\, please contact Betsy Bickel at betsybickel@gmail.com.  https://eruuf.
 org/calendar/calendar-view/event/12227-earth-justice.html
DTSTART:20220910T180000Z
DTEND:20220910T200000Z
LOCATION:ERUUF Commons Room (4907 Garrett Road)
SUMMARY:Earth Justice
URL:https://eruuf.org/calendar/calendar-view/event/12227-earth-justice.html
END:VEVENT
END:VCALENDAR
