BEGIN:VCALENDAR
VERSION:2.0
PRODID:-//https://eruuf.org///NONSGML kigkonsult.se iCalcreator 2.10.15//
METHOD:PUBLISH
BEGIN:VEVENT
UID:20260424T014514UTC-7589aBgB5g@https://eruuf.org/
DTSTAMP:20260424T014514Z
DESCRIPTION:UU the Vote has partnered with Reclaim Our Vote to send out 27\
 ,000 colorful\, handwritten postcards to inconsistent voters in Cabarrus C
 ounty\, urging them to vote in the 2022 election. ERUUF has committed to d
 oing at least 2000\, so we're having a writing party after services! Or st
 op by and pick up a kit of 20 to take home. Contact Beth Harvat (bethandpe
 ter@gmail.com) for details.\nSeptember 25 - CARE Building Room 1\nOctober 
 2 - Fellowship Hall https://eruuf.org/calendar/calendar-view/event/12238-j
 ustice-ministry-showing-up-for-democracy.html
DTSTART:20220925T153000Z
DTEND:20220925T173000Z
LOCATION:Room 1 - CARE Building ()
SUMMARY:Justice Ministry - Showing UP for Democracy
URL:https://eruuf.org/calendar/calendar-view/event/12238-justice-ministry-s
 howing-up-for-democracy.html
END:VEVENT
END:VCALENDAR
